BEGIN:VCALENDAR
VERSION:2.0
PRODID:-//Faculty Center//NONSGML Events//EN
CALSCALE:GREGORIAN
X-WR-CALNAME:Faculty Center - Events
X-ORIGINAL-URL:https://openlab-dev.sunycreate.cloud/groups/teaching-learning-and-technology-center/events/
X-WR-CALDESC:Faculty Center - Events
BEGIN:VEVENT
UID:20220909T1549Z-1662738599.5673-EO-1147-1@165.227.211.118
STATUS:CONFIRMED
DTSTAMP:20260420T204905Z
CREATED:20220909T154836Z
LAST-MODIFIED:20220909T154836Z
DTSTART:20220909T130000Z
DTEND:20220909T140000Z
RDATE:20220916T130000Z,20220923T130000Z,20220930T130000Z
SUMMARY: All About WordPress
X-ALT-DESC;FMTTYPE=text/html: 
ORGANIZER;CN="Ed Beck":MAILTO:ed.beck@oneonta.edu
URL;VALUE=URI:https://openlab-dev.sunycreate.cloud/events/event/all-about-w
 ordpress/
END:VEVENT
BEGIN:VEVENT
UID:20220909T1549Z-1662738599.5673-EO-1147-1@165.227.211.118
STATUS:CONFIRMED
DTSTAMP:20260420T204905Z
CREATED:20220909T154836Z
LAST-MODIFIED:20220909T154836Z
DTSTART:20220909T130000Z
DTEND:20220909T140000Z
RDATE:20220916T130000Z,20220923T130000Z,20220930T130000Z
SUMMARY: All About WordPress
X-ALT-DESC;FMTTYPE=text/html: 
ORGANIZER;CN="Ed Beck":MAILTO:ed.beck@oneonta.edu
URL;VALUE=URI:https://openlab-dev.sunycreate.cloud/events/event/all-about-w
 ordpress/
END:VEVENT
BEGIN:VEVENT
UID:20220909T1549Z-1662738599.5673-EO-1147-1@165.227.211.118
STATUS:CONFIRMED
DTSTAMP:20260420T204905Z
CREATED:20220909T154836Z
LAST-MODIFIED:20220909T154836Z
DTSTART:20220909T130000Z
DTEND:20220909T140000Z
RDATE:20220916T130000Z,20220923T130000Z,20220930T130000Z
SUMMARY: All About WordPress
X-ALT-DESC;FMTTYPE=text/html: 
ORGANIZER;CN="Ed Beck":MAILTO:ed.beck@oneonta.edu
URL;VALUE=URI:https://openlab-dev.sunycreate.cloud/events/event/all-about-w
 ordpress/
END:VEVENT
BEGIN:VEVENT
UID:20220909T1549Z-1662738599.5673-EO-1147-1@165.227.211.118
STATUS:CONFIRMED
DTSTAMP:20260420T204905Z
CREATED:20220909T154836Z
LAST-MODIFIED:20220909T154836Z
DTSTART:20220909T130000Z
DTEND:20220909T140000Z
RDATE:20220916T130000Z,20220923T130000Z,20220930T130000Z
SUMMARY: All About WordPress
X-ALT-DESC;FMTTYPE=text/html: 
ORGANIZER;CN="Ed Beck":MAILTO:ed.beck@oneonta.edu
URL;VALUE=URI:https://openlab-dev.sunycreate.cloud/events/event/all-about-w
 ordpress/
END:VEVENT
END:VCALENDAR
